BEGIN:VCALENDAR
VERSION:2.0
PRODID:-//Eventin//Event Calendar//EN
CALSCALE:GREGORIAN
METHOD:PUBLISH
BEGIN:VEVENT
UID:e6de3c0742fcb65e0b7e6b6f62cd5dc0@quartierflohmiallschwil.ch
SUMMARY:Veronikaflohmi
DESCRIPTION:Komm vorbei und entdecke das Quartier von einer neuen Seite. Di
 e einzelnen Standorte sind mit Ballons gekennzeichnet.\n\nKostenlose Teilna
 hme für alle Anwohner mit Stand auf privatem Grundstück (Einfahrt\, Vorga
 rten\, Garten etc.).\n\nDie Anmeldung über das Formular macht den Stand au
 f der Karte sichtbar für Besucher.Für Rückfragen schreiben Sie uns bitte
  eine E-Mail.\n\n 
LOCATION:Allschwil
DTSTAMP:20260420T115240Z
DTSTART:20260530T080000Z
DTEND:20260530T140000Z
END:VEVENT
END:VCALENDAR
